BEGIN:VCALENDAR
VERSION:2.0
PRODID:-//RGEA - ECPv6.15.20//NONSGML v1.0//EN
CALSCALE:GREGORIAN
METHOD:PUBLISH
X-WR-CALNAME:RGEA
X-ORIGINAL-URL:https://rgea.info
X-WR-CALDESC:Events for RGEA
REFRESH-INTERVAL;VALUE=DURATION:PT1H
X-Robots-Tag:noindex
X-PUBLISHED-TTL:PT1H
BEGIN:VTIMEZONE
TZID:America/New_York
BEGIN:DAYLIGHT
TZOFFSETFROM:-0500
TZOFFSETTO:-0400
TZNAME:EDT
DTSTART:20250309T070000
END:DAYLIGHT
BEGIN:STANDARD
TZOFFSETFROM:-0400
TZOFFSETTO:-0500
TZNAME:EST
DTSTART:20251102T060000
END:STANDARD
BEGIN:DAYLIGHT
TZOFFSETFROM:-0500
TZOFFSETTO:-0400
TZNAME:EDT
DTSTART:20260308T070000
END:DAYLIGHT
BEGIN:STANDARD
TZOFFSETFROM:-0400
TZOFFSETTO:-0500
TZNAME:EST
DTSTART:20261101T060000
END:STANDARD
BEGIN:DAYLIGHT
TZOFFSETFROM:-0500
TZOFFSETTO:-0400
TZNAME:EDT
DTSTART:20270314T070000
END:DAYLIGHT
BEGIN:STANDARD
TZOFFSETFROM:-0400
TZOFFSETTO:-0500
TZNAME:EST
DTSTART:20271107T060000
END:STANDARD
END:VTIMEZONE
BEGIN:VEVENT
DTSTART;TZID=America/New_York:20260424T080000
DTEND;TZID=America/New_York:20260424T170000
DTSTAMP:20260420T182319
CREATED:20260224T152710Z
LAST-MODIFIED:20260224T152711Z
UID:10001024-1777017600-1777050000@rgea.info
SUMMARY:Retiree Pay Date
DESCRIPTION:Call the NC Retirement Systems at 919.814.4590 for all questions about your retirement check or deductions.
URL:https://rgea.info/event/retiree-pay-date-3/2026-04-24/
ATTACH;FMTTYPE=image/png:https://rgea.info/wp-content/uploads/2025/04/RGEA-Calendar-Icons_Financial-03.png
END:VEVENT
BEGIN:VEVENT
DTSTART;TZID=America/New_York:20260522T080000
DTEND;TZID=America/New_York:20260522T170000
DTSTAMP:20260420T182319
CREATED:20260224T152710Z
LAST-MODIFIED:20260224T152711Z
UID:10001025-1779436800-1779469200@rgea.info
SUMMARY:Retiree Pay Date
DESCRIPTION:Call the NC Retirement Systems at 919.814.4590 for all questions about your retirement check or deductions.
URL:https://rgea.info/event/retiree-pay-date-3/2026-05-22/
ATTACH;FMTTYPE=image/png:https://rgea.info/wp-content/uploads/2025/04/RGEA-Calendar-Icons_Financial-03.png
END:VEVENT
BEGIN:VEVENT
DTSTART;TZID=America/New_York:20260625T080000
DTEND;TZID=America/New_York:20260625T170000
DTSTAMP:20260420T182319
CREATED:20260224T152710Z
LAST-MODIFIED:20260224T152711Z
UID:10001026-1782374400-1782406800@rgea.info
SUMMARY:Retiree Pay Date
DESCRIPTION:Call the NC Retirement Systems at 919.814.4590 for all questions about your retirement check or deductions.
URL:https://rgea.info/event/retiree-pay-date-3/2026-06-25/
ATTACH;FMTTYPE=image/png:https://rgea.info/wp-content/uploads/2025/04/RGEA-Calendar-Icons_Financial-03.png
END:VEVENT
BEGIN:VEVENT
DTSTART;TZID=America/New_York:20260724T080000
DTEND;TZID=America/New_York:20260724T170000
DTSTAMP:20260420T182319
CREATED:20260224T152710Z
LAST-MODIFIED:20260224T152711Z
UID:10001027-1784880000-1784912400@rgea.info
SUMMARY:Retiree Pay Date
DESCRIPTION:Call the NC Retirement Systems at 919.814.4590 for all questions about your retirement check or deductions.
URL:https://rgea.info/event/retiree-pay-date-3/2026-07-24/
ATTACH;FMTTYPE=image/png:https://rgea.info/wp-content/uploads/2025/04/RGEA-Calendar-Icons_Financial-03.png
END:VEVENT
BEGIN:VEVENT
DTSTART;TZID=America/New_York:20260825T080000
DTEND;TZID=America/New_York:20260825T170000
DTSTAMP:20260420T182319
CREATED:20260224T152710Z
LAST-MODIFIED:20260224T152711Z
UID:10001028-1787644800-1787677200@rgea.info
SUMMARY:Retiree Pay Date
DESCRIPTION:Call the NC Retirement Systems at 919.814.4590 for all questions about your retirement check or deductions.
URL:https://rgea.info/event/retiree-pay-date-3/2026-08-25/
ATTACH;FMTTYPE=image/png:https://rgea.info/wp-content/uploads/2025/04/RGEA-Calendar-Icons_Financial-03.png
END:VEVENT
BEGIN:VEVENT
DTSTART;TZID=America/New_York:20260925T080000
DTEND;TZID=America/New_York:20260925T170000
DTSTAMP:20260420T182319
CREATED:20260224T152710Z
LAST-MODIFIED:20260224T152711Z
UID:10001029-1790323200-1790355600@rgea.info
SUMMARY:Retiree Pay Date
DESCRIPTION:Call the NC Retirement Systems at 919.814.4590 for all questions about your retirement check or deductions.
URL:https://rgea.info/event/retiree-pay-date-3/2026-09-25/
ATTACH;FMTTYPE=image/png:https://rgea.info/wp-content/uploads/2025/04/RGEA-Calendar-Icons_Financial-03.png
END:VEVENT
BEGIN:VEVENT
DTSTART;TZID=America/New_York:20261023T080000
DTEND;TZID=America/New_York:20261023T170000
DTSTAMP:20260420T182319
CREATED:20260224T152710Z
LAST-MODIFIED:20260224T152711Z
UID:10001030-1792742400-1792774800@rgea.info
SUMMARY:Retiree Pay Date
DESCRIPTION:Call the NC Retirement Systems at 919.814.4590 for all questions about your retirement check or deductions.
URL:https://rgea.info/event/retiree-pay-date-3/2026-10-23/
ATTACH;FMTTYPE=image/png:https://rgea.info/wp-content/uploads/2025/04/RGEA-Calendar-Icons_Financial-03.png
END:VEVENT
BEGIN:VEVENT
DTSTART;TZID=America/New_York:20261125T080000
DTEND;TZID=America/New_York:20261125T170000
DTSTAMP:20260420T182319
CREATED:20260224T152710Z
LAST-MODIFIED:20260224T152711Z
UID:10001031-1795593600-1795626000@rgea.info
SUMMARY:Retiree Pay Date
DESCRIPTION:Call the NC Retirement Systems at 919.814.4590 for all questions about your retirement check or deductions.
URL:https://rgea.info/event/retiree-pay-date-3/2026-11-25/
ATTACH;FMTTYPE=image/png:https://rgea.info/wp-content/uploads/2025/04/RGEA-Calendar-Icons_Financial-03.png
END:VEVENT
BEGIN:VEVENT
DTSTART;TZID=America/New_York:20261223T080000
DTEND;TZID=America/New_York:20261223T170000
DTSTAMP:20260420T182319
CREATED:20260224T152710Z
LAST-MODIFIED:20260224T152711Z
UID:10001032-1798012800-1798045200@rgea.info
SUMMARY:Retiree Pay Date
DESCRIPTION:Call the NC Retirement Systems at 919.814.4590 for all questions about your retirement check or deductions.
URL:https://rgea.info/event/retiree-pay-date-3/2026-12-23/
ATTACH;FMTTYPE=image/png:https://rgea.info/wp-content/uploads/2025/04/RGEA-Calendar-Icons_Financial-03.png
END:VEVENT
END:VCALENDAR