BEGIN:VCALENDAR
VERSION:2.0
PRODID:-//RGEA - ECPv6.15.20//NONSGML v1.0//EN
CALSCALE:GREGORIAN
METHOD:PUBLISH
X-ORIGINAL-URL:https://rgea.info
X-WR-CALDESC:Events for RGEA
REFRESH-INTERVAL;VALUE=DURATION:PT1H
X-Robots-Tag:noindex
X-PUBLISHED-TTL:PT1H
BEGIN:VTIMEZONE
TZID:America/New_York
BEGIN:DAYLIGHT
TZOFFSETFROM:-0500
TZOFFSETTO:-0400
TZNAME:EDT
DTSTART:20230312T070000
END:DAYLIGHT
BEGIN:STANDARD
TZOFFSETFROM:-0400
TZOFFSETTO:-0500
TZNAME:EST
DTSTART:20231105T060000
END:STANDARD
BEGIN:DAYLIGHT
TZOFFSETFROM:-0500
TZOFFSETTO:-0400
TZNAME:EDT
DTSTART:20240310T070000
END:DAYLIGHT
BEGIN:STANDARD
TZOFFSETFROM:-0400
TZOFFSETTO:-0500
TZNAME:EST
DTSTART:20241103T060000
END:STANDARD
BEGIN:DAYLIGHT
TZOFFSETFROM:-0500
TZOFFSETTO:-0400
TZNAME:EDT
DTSTART:20250309T070000
END:DAYLIGHT
BEGIN:STANDARD
TZOFFSETFROM:-0400
TZOFFSETTO:-0500
TZNAME:EST
DTSTART:20251102T060000
END:STANDARD
END:VTIMEZONE
BEGIN:VEVENT
DTSTART;TZID=America/New_York:20240605T083000
DTEND;TZID=America/New_York:20240605T093000
DTSTAMP:20260425T093951
CREATED:20240410T010614Z
LAST-MODIFIED:20240510T195814Z
UID:10000500-1717576200-1717579800@rgea.info
SUMMARY:NCRGEA Lunch and Learn Webinar: June 2024
DESCRIPTION:Free virtual webinar Lunch & Learn Series: “Healthy Living for Your Brain and Body: Tips from the Latest Alzheimer’s Research”\, presented by Nancy Swigert\, a retired speech-language pathologist and volunteer for the Alzheimer’s Association. \n\n\n\nAt any age\, there are lifestyle habits we can adopt to help maintain or improve our health. The latest research indicates that these habits may also help keep our brains healthy as we age\, and reduce the risk of cognitive decline and dementia. This program will give healthy decision-making strategies surrounding sleep\, nutrition\, exercise\, and cognitive and social engagement. \n\n\n\nRegistration by Friday | May 31 is required for this FREE event. Click on the registration button to sign up! \n\n\n\nIf you have any questions\, please email info@NCRGEA.com or phone 919.834.4652 or 1 800 356 1190. \n\n\n\nPrevious NCRGEA Lunch and Learn Series recordings can be found on our YouTube channel.
URL:https://rgea.info/event/ncrgea-lunch-and-learn-webinar-june-2024/
CATEGORIES:District 1,District 2,District 3,District 4,District 5,District 6,District 7,District 8,District 9,Districts
ATTACH;FMTTYPE=image/jpeg:https://rgea.info/wp-content/uploads/2024/05/JUNE-2024-Lunch-and-Learn-date-logo.jpg
END:VEVENT
BEGIN:VEVENT
DTSTART;TZID=America/New_York:20240605T093000
DTEND;TZID=America/New_York:20240605T103000
DTSTAMP:20260425T093951
CREATED:20240509T160138Z
LAST-MODIFIED:20240509T222236Z
UID:10000516-1717579800-1717583400@rgea.info
SUMMARY:Local Outreach:  District 4 @ Oxford NC
DESCRIPTION:NCRGEA is inviting all retirees from public service\, both state and local\, to join us for refreshments and a discussion of issues that affect public service retirees of North Carolina. \n\n\n\nWe’ll talk about current legislative issues\, retiree issues\, and retirement benefits available to all public service retirees.This is a great opportunity to meet and speak with other retirees who share the same concerns you have and to talk to Josephine\, Outreach Coordinator at NCRGEA\, with your questions.  \n\n\n\nRegistration is FREE: Click on the button at the top or use this link. \n\n\n\nLocation: \n\n\n\nGranville County Senior Services | 107 Lanier St | Oxford NC 27565 \n\n\n\nOther Questions? Call (800) 356-1190 or email Josephine@NCRGEA.com.
URL:https://rgea.info/event/local-outreach-district-4-oxford-nc/
CATEGORIES:District 4,Districts
ATTACH;FMTTYPE=image/jpeg:https://rgea.info/wp-content/uploads/2023/08/Local.jpg
END:VEVENT
BEGIN:VEVENT
DTSTART;TZID=America/New_York:20240613T093000
DTEND;TZID=America/New_York:20240613T103000
DTSTAMP:20260425T093951
CREATED:20240509T164347Z
LAST-MODIFIED:20240509T222516Z
UID:10000519-1718271000-1718274600@rgea.info
SUMMARY:Local Outreach:  District 4 @ Pittsboro NC
DESCRIPTION:NCRGEA is inviting all retirees from public service\, both state and local\, to join us for refreshments and a discussion of issues that affect public service retirees of North Carolina. \n\n\n\nWe’ll talk about current legislative issues\, retiree issues\, and retirement benefits available to all public service retirees.This is a great opportunity to meet and speak with other retirees who share the same concerns you have and to talk to Josephine\, Outreach Coordinator at NCRGEA\, with your questions.  \n\n\n\nRegistration is FREE: Click on the button at the top or use this link. \n\n\n\nLocation: \n\n\n\nPittsboro Center for Active Living | 365 Highway 87 North | Pittsboro NC 27312 \n\n\n\nOther Questions? Call (800) 356-1190 or email Josephine@NCRGEA.com.
URL:https://rgea.info/event/local-outreach-district-4-pittsboro-nc/
CATEGORIES:District 4,Districts
ATTACH;FMTTYPE=image/jpeg:https://rgea.info/wp-content/uploads/2023/08/Local.jpg
END:VEVENT
BEGIN:VEVENT
DTSTART;TZID=America/New_York:20240627T090000
DTEND;TZID=America/New_York:20240627T100000
DTSTAMP:20260425T093951
CREATED:20240612T231053Z
LAST-MODIFIED:20240612T231053Z
UID:10000596-1719478800-1719482400@rgea.info
SUMMARY:District 4: Community Advisory Board (CAB) meeting
DESCRIPTION:Meeting for CAB members ~ please join us for a virtual meeting via Zoom! Questions\, please contact Community Liaison Deryl at Deryl@NCRGEA.com.
URL:https://rgea.info/event/district-4-community-advisory-board-cab-meeting-7/
CATEGORIES:District 4,Districts
ATTACH;FMTTYPE=image/jpeg:https://rgea.info/wp-content/uploads/2023/03/yellow-convertible-car-scaled.jpg
END:VEVENT
END:VCALENDAR