BEGIN:VCALENDAR
VERSION:2.0
PRODID:-//RGEA - ECPv6.15.20//NONSGML v1.0//EN
CALSCALE:GREGORIAN
METHOD:PUBLISH
X-WR-CALNAME:RGEA
X-ORIGINAL-URL:https://rgea.info
X-WR-CALDESC:Events for RGEA
REFRESH-INTERVAL;VALUE=DURATION:PT1H
X-Robots-Tag:noindex
X-PUBLISHED-TTL:PT1H
BEGIN:VTIMEZONE
TZID:America/New_York
BEGIN:DAYLIGHT
TZOFFSETFROM:-0500
TZOFFSETTO:-0400
TZNAME:EDT
DTSTART:20230312T070000
END:DAYLIGHT
BEGIN:STANDARD
TZOFFSETFROM:-0400
TZOFFSETTO:-0500
TZNAME:EST
DTSTART:20231105T060000
END:STANDARD
BEGIN:DAYLIGHT
TZOFFSETFROM:-0500
TZOFFSETTO:-0400
TZNAME:EDT
DTSTART:20240310T070000
END:DAYLIGHT
BEGIN:STANDARD
TZOFFSETFROM:-0400
TZOFFSETTO:-0500
TZNAME:EST
DTSTART:20241103T060000
END:STANDARD
BEGIN:DAYLIGHT
TZOFFSETFROM:-0500
TZOFFSETTO:-0400
TZNAME:EDT
DTSTART:20250309T070000
END:DAYLIGHT
BEGIN:STANDARD
TZOFFSETFROM:-0400
TZOFFSETTO:-0500
TZNAME:EST
DTSTART:20251102T060000
END:STANDARD
END:VTIMEZONE
BEGIN:VEVENT
DTSTART;TZID=America/New_York:20240401T043000
DTEND;TZID=America/New_York:20240401T100000
DTSTAMP:20260421T082123
CREATED:20231213T234724Z
LAST-MODIFIED:20240328T161823Z
UID:10000427-1711945800-1711965600@rgea.info
SUMMARY:Spring Conference | Raleigh NC
DESCRIPTION:NCRGEA is inviting all members and pre-retirees of state and local government to attend our Spring Conference in District 8\, Raleigh NC. This one-day conference will be offered on Monday OR Tuesday due to limited space\, and agenda will be the same on both days. \n\n\n\n~ Registration is Closed ~ \n\n\n\nLocation:  \n\n\n\nMcKimmon CenterNC State University1101 Gorman StreetRaleigh\, NC 27606
URL:https://rgea.info/event/spring-conference-raleigh-nc/
CATEGORIES:District 1,District 2,District 3,District 4,District 5,District 6,District 7,District 8,District 9,Districts
ATTACH;FMTTYPE=image/jpeg:https://rgea.info/wp-content/uploads/2023/12/McKimmon-Center-image.jpg
END:VEVENT
BEGIN:VEVENT
DTSTART;TZID=America/New_York:20240402T043000
DTEND;TZID=America/New_York:20240402T100000
DTSTAMP:20260421T082123
CREATED:20240219T201309Z
LAST-MODIFIED:20240328T161721Z
UID:10000473-1712032200-1712052000@rgea.info
SUMMARY:Spring Conference | Raleigh NC
DESCRIPTION:NCRGEA is inviting all members and pre-retirees of state and local government to attend our Spring Conference in District 8\, Raleigh NC. This one-day conference will be offered on Monday OR Tuesday due to limited space\, and agenda will be the same on both days. \n\n\n\n~ Registration is Closed ~ \n\n\n\nLocation:  \n\n\n\nMcKimmon CenterNC State University1101 Gorman StreetRaleigh\, NC 27606
URL:https://rgea.info/event/spring-conference-raleigh-nc-2/
CATEGORIES:District 1,District 2,District 3,District 4,District 5,District 6,District 7,District 8,District 9,Districts
ATTACH;FMTTYPE=image/jpeg:https://rgea.info/wp-content/uploads/2023/12/McKimmon-Center-image.jpg
END:VEVENT
BEGIN:VEVENT
DTSTART;TZID=America/New_York:20240410T083000
DTEND;TZID=America/New_York:20240410T093000
DTSTAMP:20260421T082123
CREATED:20231215T014056Z
LAST-MODIFIED:20240405T013026Z
UID:10000430-1712737800-1712741400@rgea.info
SUMMARY:NCRGEA Lunch and Learn Webinar: April 2024
DESCRIPTION:Free virtual webinar Lunch & Learn Series:  “Battling the Aging Brain\,” presented by Lisa Nannini of Humana. \n\n\n\nRegistration by Friday | April 5 is required for this FREE event. Click on the registration button to sign up! \n\n\n\nIf you have any questions\, please email info@NCRGEA.com or phone 919.834.4652 or 1 800 356 1190. \n\n\n\nPrevious NCRGEA Lunch and Learn Series recordings can be found on our YouTube channel.
URL:https://rgea.info/event/ncrgea-lunch-and-learn-webinar-april-2024/
CATEGORIES:District 1,District 2,District 3,District 4,District 5,District 6,District 7,District 8,District 9,Districts
ATTACH;FMTTYPE=image/jpeg:https://rgea.info/wp-content/uploads/2023/12/APRIL-2024-Lunch-and-Learn-logo.jpg
END:VEVENT
END:VCALENDAR