BEGIN:VCALENDAR
VERSION:2.0
PRODID:-//RGEA - ECPv6.15.20//NONSGML v1.0//EN
CALSCALE:GREGORIAN
METHOD:PUBLISH
X-ORIGINAL-URL:https://rgea.info
X-WR-CALDESC:Events for RGEA
REFRESH-INTERVAL;VALUE=DURATION:PT1H
X-Robots-Tag:noindex
X-PUBLISHED-TTL:PT1H
BEGIN:VTIMEZONE
TZID:America/New_York
BEGIN:DAYLIGHT
TZOFFSETFROM:-0500
TZOFFSETTO:-0400
TZNAME:EDT
DTSTART:20240310T070000
END:DAYLIGHT
BEGIN:STANDARD
TZOFFSETFROM:-0400
TZOFFSETTO:-0500
TZNAME:EST
DTSTART:20241103T060000
END:STANDARD
BEGIN:DAYLIGHT
TZOFFSETFROM:-0500
TZOFFSETTO:-0400
TZNAME:EDT
DTSTART:20250309T070000
END:DAYLIGHT
BEGIN:STANDARD
TZOFFSETFROM:-0400
TZOFFSETTO:-0500
TZNAME:EST
DTSTART:20251102T060000
END:STANDARD
BEGIN:DAYLIGHT
TZOFFSETFROM:-0500
TZOFFSETTO:-0400
TZNAME:EDT
DTSTART:20260308T070000
END:DAYLIGHT
BEGIN:STANDARD
TZOFFSETFROM:-0400
TZOFFSETTO:-0500
TZNAME:EST
DTSTART:20261101T060000
END:STANDARD
END:VTIMEZONE
BEGIN:VEVENT
DTSTART;TZID=America/New_York:20250109T061500
DTEND;TZID=America/New_York:20250109T080000
DTSTAMP:20260424T060752
CREATED:20241021T174556Z
LAST-MODIFIED:20241021T174835Z
UID:10000689-1736403300-1736409600@rgea.info
SUMMARY:District 3: Forsyth Lunch Cruisers!
DESCRIPTION:Members of District 3 are encouraged to attend this gathering for lunch\, fellowship\, and fun! \n\n\n\nTodays event is sponsored by your Community Advisory Board (CAB) of District 3. To RSVP or if you have questions\, reach out to Robin Kelly via email at reklc1@yahoo.com. \n\n\n\nLocation: \n\n\n\nThe Sherwood Restaurant | 3348 Robinhood Rd. | Winston-Salem\, NC 27106 \n\n\n\nYou’ll need to cover your own meal expenses.
URL:https://rgea.info/event/district-3-forsyth-lunch-cruisers-9/
CATEGORIES:District 3
END:VEVENT
BEGIN:VEVENT
DTSTART;TZID=America/New_York:20250115T073000
DTEND;TZID=America/New_York:20250115T083000
DTSTAMP:20260424T060752
CREATED:20240626T231818Z
LAST-MODIFIED:20241223T141053Z
UID:10000608-1736926200-1736929800@rgea.info
SUMMARY:NCRGEA Lunch and Learn Webinar: January 2025
DESCRIPTION:Free virtual webinar Lunch & Learn Series: “‘Scam Jam’ and Medicare Fraud Patrol\,” presented by Stephanie Bias of Seniors’ Health Insurance Information Program (SHIIP). \n\n\n\nRegistration by Friday | January 10\, 2025 is required for this FREE event. \n\n\n\nIf you have any questions\, please email info@NCRGEA.com or phone 919.834.4652. \n\n\n\nPrevious NCRGEA Lunch and Learn Series recordings can be found on our YouTube channel.
URL:https://rgea.info/event/ncrgea-lunch-and-learn-webinar-january-2025/
CATEGORIES:District 1,District 2,District 3,District 4,District 5,District 6,District 7,District 8,District 9,Districts
ATTACH;FMTTYPE=image/jpeg:https://rgea.info/wp-content/uploads/2024/06/January-25-Lunch-and-Learn_Scam-N-Jam_1200x630.jpg
END:VEVENT
END:VCALENDAR