BEGIN:VCALENDAR
VERSION:2.0
PRODID:-//RGEA - ECPv6.15.20//NONSGML v1.0//EN
CALSCALE:GREGORIAN
METHOD:PUBLISH
X-ORIGINAL-URL:https://rgea.info
X-WR-CALDESC:Events for RGEA
REFRESH-INTERVAL;VALUE=DURATION:PT1H
X-Robots-Tag:noindex
X-PUBLISHED-TTL:PT1H
BEGIN:VTIMEZONE
TZID:America/New_York
BEGIN:DAYLIGHT
TZOFFSETFROM:-0500
TZOFFSETTO:-0400
TZNAME:EDT
DTSTART:20230312T070000
END:DAYLIGHT
BEGIN:STANDARD
TZOFFSETFROM:-0400
TZOFFSETTO:-0500
TZNAME:EST
DTSTART:20231105T060000
END:STANDARD
BEGIN:DAYLIGHT
TZOFFSETFROM:-0500
TZOFFSETTO:-0400
TZNAME:EDT
DTSTART:20240310T070000
END:DAYLIGHT
BEGIN:STANDARD
TZOFFSETFROM:-0400
TZOFFSETTO:-0500
TZNAME:EST
DTSTART:20241103T060000
END:STANDARD
BEGIN:DAYLIGHT
TZOFFSETFROM:-0500
TZOFFSETTO:-0400
TZNAME:EDT
DTSTART:20250309T070000
END:DAYLIGHT
BEGIN:STANDARD
TZOFFSETFROM:-0400
TZOFFSETTO:-0500
TZNAME:EST
DTSTART:20251102T060000
END:STANDARD
END:VTIMEZONE
BEGIN:VEVENT
DTSTART;TZID=America/New_York:20241204T073000
DTEND;TZID=America/New_York:20241204T083000
DTSTAMP:20260422T125335
CREATED:20240626T231039Z
LAST-MODIFIED:20241118T195701Z
UID:10000607-1733297400-1733301000@rgea.info
SUMMARY:NCRGEA Lunch and Learn Webinar: December 2024
DESCRIPTION:Free virtual webinar Lunch & Learn Series: “Social Security Updates in 2025\,” presented by Lisa Wallace\, North Carolina Social Security Public Affairs Specialist.  \n\n\n\nRegistration by Friday | November 29 is required for this FREE event. This webinar will not be recorded due to federal regulations\, but the information covered will be available online.  \n\n\n\nIf you have any questions\, please email info@NCRGEA.com or phone 919.834.4652. \n\n\n\nPrevious NCRGEA Lunch and Learn Series recordings can be found on our YouTube channel.
URL:https://rgea.info/event/ncrgea-lunch-and-learn-webinar-december-2024/
CATEGORIES:District 1,District 2,District 3,District 4,District 5,District 6,District 7,District 8,District 9,Districts
ATTACH;FMTTYPE=image/jpeg:https://rgea.info/wp-content/uploads/2024/06/December-24-Lunch-and-Learn_SS-Updates-2025_1200x630.jpg
END:VEVENT
BEGIN:VEVENT
DTSTART;TZID=America/New_York:20241212T061500
DTEND;TZID=America/New_York:20241212T080000
DTSTAMP:20260422T125335
CREATED:20241021T174406Z
LAST-MODIFIED:20241021T175129Z
UID:10000688-1733984100-1733990400@rgea.info
SUMMARY:District 3: Forsyth Lunch Cruisers!
DESCRIPTION:Members of District 3 are encouraged to attend this gathering for lunch\, fellowship\, and fun! \n\n\n\nTodays event is sponsored by your Community Advisory Board (CAB) of District 3. To RSVP or if you have questions\, reach out to Robin Kelly via email at reklc1@yahoo.com. \n\n\n\nLocation: \n\n\n\nK&W | 3300 Healy Drive | Winston-Salem\, NC 27103 \n\n\n\nYou’ll need to cover your own meal expenses.
URL:https://rgea.info/event/district-3-forsyth-lunch-cruisers-8/
CATEGORIES:District 3
END:VEVENT
END:VCALENDAR