BEGIN:VCALENDAR
VERSION:2.0
PRODID:-//RGEA - ECPv6.15.20//NONSGML v1.0//EN
CALSCALE:GREGORIAN
METHOD:PUBLISH
X-ORIGINAL-URL:https://rgea.info
X-WR-CALDESC:Events for RGEA
REFRESH-INTERVAL;VALUE=DURATION:PT1H
X-Robots-Tag:noindex
X-PUBLISHED-TTL:PT1H
BEGIN:VTIMEZONE
TZID:America/New_York
BEGIN:DAYLIGHT
TZOFFSETFROM:-0500
TZOFFSETTO:-0400
TZNAME:EDT
DTSTART:20230312T070000
END:DAYLIGHT
BEGIN:STANDARD
TZOFFSETFROM:-0400
TZOFFSETTO:-0500
TZNAME:EST
DTSTART:20231105T060000
END:STANDARD
BEGIN:DAYLIGHT
TZOFFSETFROM:-0500
TZOFFSETTO:-0400
TZNAME:EDT
DTSTART:20240310T070000
END:DAYLIGHT
BEGIN:STANDARD
TZOFFSETFROM:-0400
TZOFFSETTO:-0500
TZNAME:EST
DTSTART:20241103T060000
END:STANDARD
BEGIN:DAYLIGHT
TZOFFSETFROM:-0500
TZOFFSETTO:-0400
TZNAME:EDT
DTSTART:20250309T070000
END:DAYLIGHT
BEGIN:STANDARD
TZOFFSETFROM:-0400
TZOFFSETTO:-0500
TZNAME:EST
DTSTART:20251102T060000
END:STANDARD
END:VTIMEZONE
BEGIN:VEVENT
DTSTART;TZID=America/New_York:20241107T061500
DTEND;TZID=America/New_York:20241107T080000
DTSTAMP:20260422T113132
CREATED:20241021T174140Z
LAST-MODIFIED:20241021T174915Z
UID:10000687-1730960100-1730966400@rgea.info
SUMMARY:District 3: Forsyth Lunch Cruisers!
DESCRIPTION:Members of District 3 are encouraged to attend this gathering for lunch\, fellowship\, and fun! \n\n\n\nTodays event is sponsored by your Community Advisory Board (CAB) of District 3. To RSVP or if you have questions\, reach out to Robin Kelly via email at reklc1@yahoo.com. \n\n\n\nLocation: \n\n\n\nCarriage House | 1409 S. Stratford Rd. | Winston-Salem\, NC 27103 \n\n\n\nYou’ll need to cover your own meal expenses.
URL:https://rgea.info/event/district-3-forsyth-lunch-cruisers-7/
CATEGORIES:District 3
END:VEVENT
BEGIN:VEVENT
DTSTART;TZID=America/New_York:20241113T073000
DTEND;TZID=America/New_York:20241113T083000
DTSTAMP:20260422T113132
CREATED:20240625T184012Z
LAST-MODIFIED:20241017T185645Z
UID:10000606-1731483000-1731486600@rgea.info
SUMMARY:NCRGEA Lunch and Learn Webinar: November 2024
DESCRIPTION:Free virtual webinar Lunch & Learn Series: “Festive and Fit:  Holiday Health Tips\,” presented by Brookdale Senior Living. \n\n\n\nRegistration by Friday | November 8 is required for this FREE event. \n\n\n\nIf you have any questions\, please email info@NCRGEA.com or phone 919.834.4652. \n\n\n\nPrevious NCRGEA Lunch and Learn Series recordings can be found on our YouTube channel.
URL:https://rgea.info/event/ncrgea-lunch-and-learn-webinar-november-2024/
CATEGORIES:District 1,District 2,District 3,District 4,District 5,District 6,District 7,District 8,District 9,Districts
ATTACH;FMTTYPE=image/png:https://rgea.info/wp-content/uploads/2024/06/November-24-Lunch-and-Learn_Holiday-Fitness.png
END:VEVENT
BEGIN:VEVENT
DTSTART;TZID=America/New_York:20241121T133000
DTEND;TZID=America/New_York:20241121T143000
DTSTAMP:20260422T113132
CREATED:20241108T013440Z
LAST-MODIFIED:20260226T191136Z
UID:10000936-1732195800-1732199400@rgea.info
SUMMARY:District 3 Community Advisory Board Meeting
DESCRIPTION:Meeting for CAB members ~ please join us for a virtual meeting via Zoom! Questions\, please contact Community Liaison Deryl at Deryl@rgea.info.
URL:https://rgea.info/event/district-3-community-advisory-board-meeting/2024-11-21/
CATEGORIES:District 3,Districts
ATTACH;FMTTYPE=image/png:https://rgea.info/wp-content/uploads/2025/02/RGEA-Calendar-Icons_Meetings-02.png
END:VEVENT
END:VCALENDAR